{
 "currentVersion": 10.91,
 "cimVersion": "2.9.0",
 "serviceDescription": "A comprehensive street and taxlot basemap for the Portland metropolitan region. The map includes coverage of the urban area of Clackamas, Multnomah and Washington Counties as well as the 24 cities within Metro Jurisdiction. Streets, taxlots and parks as well as other geographic features are included on the map. The purpose of this map service is to provide a high quality cartographic basemap for use in ArcGIS ArcMap and web applications. The service provides quick access to basemap for use as a visual with other GIS data.",
 "mapName": "Layers",
 "description": "A comprehensive street and taxlot basemap for the Portland metropolitan region. The map includes coverage of the urban area of Clackamas, Multnomah and Washington Counties as well as the 24 cities within Metro Jurisdiction. Streets, taxlots and parks as well as other geographic features are included on the map. The purpose of this map service is to provide a high quality cartographic basemap for use in ArcGIS ArcMap and web applications. The service provides quick access to basemap for use as a visual with other GIS data.",
 "copyrightText": "Data Resource Center/Metro",
 "supportsDynamicLayers": false,
 "layers": [
  {
   "id": 0,
   "name": "Basemap",
   "parentLayerId": -1,
   "defaultVisibility": true,
   "subLayerIds": null,
   "minScale": 1000000,
   "maxScale": 5,
   "type": "Feature Layer",
   "geometryType": "esriGeometryPolygon",
   "supportsDynamicLegends": true
  }
 ],
 "tables": [],
 "spatialReference": {
  "wkid": 2913,
  "latestWkid": 2913,
  "xyTolerance": 0.0032808398950131233,
  "zTolerance": 0.001,
  "mTolerance": 0.001,
  "falseX": -111333600,
  "falseY": -98152500,
  "xyUnits": 3.767577073100752E7,
  "falseZ": -100000,
  "zUnits": 10000,
  "falseM": -100000,
  "mUnits": 10000
 },
 "singleFusedMapCache": true,
 "tileInfo": {
  "rows": 256,
  "cols": 256,
  "dpi": 96,
  "format": "PNG32",
  "compressionQuality": 0,
  "origin": {
   "x": -111333600,
   "y": 140918900
  },
  "spatialReference": {
   "wkid": 2913,
   "latestWkid": 2913,
   "xyTolerance": 0.0032808398950131203,
   "zTolerance": 2,
   "mTolerance": 0.001,
   "falseX": -111333600,
   "falseY": -98152500,
   "xyUnits": 3.767577073100752E7,
   "falseZ": 0,
   "zUnits": 1,
   "falseM": -100000,
   "mUnits": 10000
  },
  "lods": [
   {
    "level": 0,
    "resolution": 133.33360000053332,
    "scale": 153600
   },
   {
    "level": 1,
    "resolution": 66.66680000026666,
    "scale": 76800
   },
   {
    "level": 2,
    "resolution": 33.33340000013333,
    "scale": 38400
   },
   {
    "level": 3,
    "resolution": 16.666700000066665,
    "scale": 19200
   },
   {
    "level": 4,
    "resolution": 8.333350000033333,
    "scale": 9600
   },
   {
    "level": 5,
    "resolution": 4.166675000016666,
    "scale": 4800
   },
   {
    "level": 6,
    "resolution": 2.083337500008333,
    "scale": 2400
   },
   {
    "level": 7,
    "resolution": 1.0416687500041666,
    "scale": 1200
   },
   {
    "level": 8,
    "resolution": 0.5208343750020833,
    "scale": 600
   }
  ]
 },
 "storageInfo": {
  "storageFormat": "esriMapCacheStorageModeCompactV2",
  "packetSize": 128
 },
 "initialExtent": {
  "xmin": 7332984.578319916,
  "ymin": 472577.8012240117,
  "xmax": 7945663.82784807,
  "ymax": 892686.2361775602,
  "spatialReference": {
   "wkid": 2913,
   "latestWkid": 2913,
   "xyTolerance": 0.0032808398950131233,
   "zTolerance": 0.001,
   "mTolerance": 0.001,
   "falseX": -111333600,
   "falseY": -98152500,
   "xyUnits": 3.767577073100752E7,
   "falseZ": -100000,
   "zUnits": 10000,
   "falseM": -100000,
   "mUnits": 10000
  }
 },
 "fullExtent": {
  "xmin": 7353991.038713917,
  "ymin": 373560.6866797954,
  "xmax": 7961611.462270334,
  "ymax": 1002899.5587270409,
  "spatialReference": {
   "wkid": 2913,
   "latestWkid": 2913,
   "xyTolerance": 0.0032808398950131233,
   "zTolerance": 0.001,
   "mTolerance": 0.001,
   "falseX": -111333600,
   "falseY": -98152500,
   "xyUnits": 3.767577073100752E7,
   "falseZ": -100000,
   "zUnits": 10000,
   "falseM": -100000,
   "mUnits": 10000
  }
 },
 "datesInUnknownTimezone": false,
 "minScale": 153600,
 "maxScale": 600,
 "units": "esriFeet",
 "supportedImageFormatTypes": "PNG32,PNG24,PNG,JPG,DIB,TIFF,EMF,PS,PDF,GIF,SVG,SVGZ,BMP",
 "documentInfo": {
  "Title": "basemap",
  "Author": "",
  "Comments": "A comprehensive street and taxlot basemap for the Portland metropolitan region. The map includes coverage of the urban area of Clackamas, Multnomah and Washington Counties as well as the 24 cities within Metro Jurisdiction. Streets, taxlots and parks as well as other geographic features are included on the map. The purpose of this map service is to provide a high quality cartographic basemap for use in ArcGIS ArcMap and web applications. The service provides quick access to basemap for use as a visual with other GIS data.",
  "Subject": "Metro region basemap",
  "Category": "",
  "AntialiasingMode": "Best",
  "TextAntialiasingMode": "Force",
  "Version": "2.8.0",
  "Keywords": "Metro,Portland,Multnomah County,Washington County,Clackamas County,Oregon,basemap,map,web service"
 },
 "supportsQueryDomains": true,
 "capabilities": "Map",
 "supportedQueryFormats": "JSON, geoJSON, PBF",
 "exportTilesAllowed": false,
 "referenceScale": 0.0,
 "datumTransformations": [
  {
   "geoTransforms": [
    {
     "wkid": 108001,
     "latestWkid": 1241,
     "transformForward": true,
     "name": "NAD_1927_To_NAD_1983_NADCON"
    }
   ]
  },
  {
   "geoTransforms": [
    {
     "wkid": 108001,
     "latestWkid": 1241,
     "transformForward": false,
     "name": "NAD_1927_To_NAD_1983_NADCON"
    }
   ]
  },
  {
   "geoTransforms": [
    {
     "wkid": 8446,
     "latestWkid": 1501,
     "transformForward": true,
     "name": "NAD_1983_To_HARN_WA_OR"
    }
   ]
  },
  {
   "geoTransforms": [
    {
     "wkid": 8446,
     "latestWkid": 1501,
     "transformForward": false,
     "name": "NAD_1983_To_HARN_WA_OR"
    }
   ]
  }
 ],
 "supportsDatumTransformation": true,
 "archivingInfo": {
  "supportsHistoricMoment": false
 },
 "supportsClipping": true,
 "supportsSpatialFilter": true,
 "supportsTimeRelation": true,
 "supportsQueryDataElements": true,
 "maxRecordCount": 1000,
 "maxImageHeight": 4096,
 "maxImageWidth": 4096,
 "supportedExtensions": "WMSServer",
 "resampling": false
}
